BEGIN:VCALENDAR
VERSION:2.0
PRODID:-//webinar.firespring.org//NONSGML kigkonsult.se iCalcreator 2.30.10
 //
CALSCALE:GREGORIAN
METHOD:PUBLISH
UID:bc424548-476f-4d65-b60b-dca4bb49e283
X-WR-CALDESC:
X-WR-RELCALID:e732f7eb2a24df9c227d805195086826
X-WR-TIMEZONE:America/Chicago
BEGIN:VTIMEZONE
TZID:America/Chicago
BEGIN:STANDARD
TZNAME:CST
DTSTART:20281105T020000
TZOFFSETFROM:-0500
TZOFFSETTO:-0600
RDATE:20291104T020000
END:STANDARD
BEGIN:DAYLIGHT
TZNAME:CDT
DTSTART:20280312T020000
TZOFFSETFROM:-0600
TZOFFSETTO:-0500
RDATE:20290311T020000
RDATE:20300310T020000
END:DAYLIGHT
END:VTIMEZONE
BEGIN:VEVENT
UID:8cac75fd-cc67-48ab-afc5-ed9dcc94cef1
DTSTAMP:20260422T025924Z
DESCRIPTION:
DTSTART;TZID=America/Chicago:20281123T110000
DTEND;TZID=America/Chicago:20281123T120000
LOCATION:
SUMMARY:Board Member Meeting
END:VEVENT
END:VCALENDAR
