BEGIN:VCALENDAR
VERSION:2.0
PRODID:-//webinar.firespring.org//NONSGML kigkonsult.se iCalcreator 2.30.10
 //
CALSCALE:GREGORIAN
METHOD:PUBLISH
UID:77f497ca-91d8-45a3-8cc3-e1d7a80f4495
X-WR-CALDESC:
X-WR-RELCALID:7af1ea7a4497a52e230567fa6c868703
X-WR-TIMEZONE:America/Chicago
BEGIN:VTIMEZONE
TZID:America/Chicago
BEGIN:STANDARD
TZNAME:CST
DTSTART:20271107T020000
TZOFFSETFROM:-0500
TZOFFSETTO:-0600
RDATE:20281105T020000
RDATE:20291104T020000
END:STANDARD
BEGIN:DAYLIGHT
TZNAME:CDT
DTSTART:20280312T020000
TZOFFSETFROM:-0600
TZOFFSETTO:-0500
RDATE:20290311T020000
END:DAYLIGHT
END:VTIMEZONE
BEGIN:VEVENT
UID:28b3ab36-3ca6-4363-8f73-e03f6ddefae0
DTSTAMP:20260421T204111Z
DESCRIPTION:
DTSTART;TZID=America/Chicago:20280706T100000
DTEND;TZID=America/Chicago:20280706T110000
LOCATION:
SUMMARY:Volunteer Event
END:VEVENT
END:VCALENDAR
