BEGIN:VCALENDAR
VERSION:2.0
PRODID:-//webinar.firespring.org//NONSGML kigkonsult.se iCalcreator 2.30.10
 //
CALSCALE:GREGORIAN
METHOD:PUBLISH
UID:f047c3db-21fd-413d-81a8-23680a27bfb0
X-WR-CALDESC:You have the ability to update your website 24/7 and we’re her
 e to teach you how. Quickly learn how to customize and manage your nonprof
 it website by using the Springboard. From updating content\, images\, form
 s and collections to changing page and section names or news articles\, th
 is session will teach you how to operate your site.
X-WR-RELCALID:150592d209f2872b10402767f9ddc8ae
X-WR-TIMEZONE:America/Chicago
BEGIN:VTIMEZONE
TZID:America/Chicago
BEGIN:STANDARD
TZNAME:CST
DTSTART:20271107T020000
TZOFFSETFROM:-0500
TZOFFSETTO:-0600
RDATE:20281105T020000
RDATE:20291104T020000
END:STANDARD
BEGIN:DAYLIGHT
TZNAME:CDT
DTSTART:20280312T020000
TZOFFSETFROM:-0600
TZOFFSETTO:-0500
RDATE:20290311T020000
END:DAYLIGHT
END:VTIMEZONE
BEGIN:VEVENT
UID:bff5f1d6-ba26-4332-bcf7-37be450ac81d
DTSTAMP:20260421T203610Z
DESCRIPTION:You have the ability to update your website 24/7 and we’re here
  to teach you how. Quickly learn how to customize and manage your nonprofi
 t website by using the Springboard. From updating content\, images\, forms
  and collections to changing page and section names or news articles\, thi
 s session will teach you how to operate your site.
DTSTART;TZID=America/Chicago:20280705T140000
DTEND;TZID=America/Chicago:20280705T150000
LOCATION:
SUMMARY:Springboard 101
END:VEVENT
END:VCALENDAR
