BEGIN:VCALENDAR
VERSION:2.0
PRODID:-//webinar.firespring.org//NONSGML kigkonsult.se iCalcreator 2.30.10
 //
CALSCALE:GREGORIAN
METHOD:PUBLISH
UID:117bf8db-abab-4457-8dc4-9432c480dc97
X-WR-CALDESC:
X-WR-RELCALID:20df96e94e022693fe7fce633344d5eb
X-WR-TIMEZONE:America/Chicago
BEGIN:VTIMEZONE
TZID:America/Chicago
BEGIN:STANDARD
TZNAME:CST
DTSTART:20271107T020000
TZOFFSETFROM:-0500
TZOFFSETTO:-0600
RDATE:20281105T020000
RDATE:20291104T020000
END:STANDARD
BEGIN:DAYLIGHT
TZNAME:CDT
DTSTART:20280312T020000
TZOFFSETFROM:-0600
TZOFFSETTO:-0500
RDATE:20290311T020000
END:DAYLIGHT
END:VTIMEZONE
BEGIN:VEVENT
UID:040f11a1-07fa-4f23-aad4-d2a60e2422f5
DTSTAMP:20260421T191020Z
DESCRIPTION:
DTSTART;TZID=America/Chicago:20280627T170000
DTEND;TZID=America/Chicago:20280627T200000
LOCATION:
SUMMARY:Volunteer Training
END:VEVENT
END:VCALENDAR
