BEGIN:VCALENDAR
VERSION:2.0
PRODID:-//webinar.firespring.org//NONSGML kigkonsult.se iCalcreator 2.30.10
 //
CALSCALE:GREGORIAN
METHOD:PUBLISH
UID:dd71ea07-0829-4dd7-8831-5fc5c5c4087b
X-WR-CALDESC:
X-WR-RELCALID:f2b3ecab73f3bdee91c597c9aade4817
X-WR-TIMEZONE:America/Chicago
BEGIN:VTIMEZONE
TZID:America/Chicago
BEGIN:STANDARD
TZNAME:CST
DTSTART:20271107T020000
TZOFFSETFROM:-0500
TZOFFSETTO:-0600
RDATE:20281105T020000
RDATE:20291104T020000
END:STANDARD
BEGIN:DAYLIGHT
TZNAME:CDT
DTSTART:20280312T020000
TZOFFSETFROM:-0600
TZOFFSETTO:-0500
RDATE:20290311T020000
END:DAYLIGHT
END:VTIMEZONE
BEGIN:VEVENT
UID:9e0b8b17-aaf4-4f49-8fa5-8f908ba1e9f1
DTSTAMP:20260421T173157Z
DESCRIPTION:
DTSTART;TZID=America/Chicago:20280523T170000
DTEND;TZID=America/Chicago:20280523T200000
LOCATION:
SUMMARY:Volunteer Training
END:VEVENT
END:VCALENDAR
