BEGIN:VCALENDAR
VERSION:2.0
PRODID:-//webinar.firespring.org//NONSGML kigkonsult.se iCalcreator 2.30.10
 //
CALSCALE:GREGORIAN
METHOD:PUBLISH
UID:80f8bfbd-1886-4ca2-9242-5ebb8e2165ca
X-WR-CALDESC:
X-WR-RELCALID:b0c95e5be3877b9fbd2b20c3c50254a6
X-WR-TIMEZONE:America/Chicago
BEGIN:VTIMEZONE
TZID:America/Chicago
BEGIN:STANDARD
TZNAME:CST
DTSTART:20271107T020000
TZOFFSETFROM:-0500
TZOFFSETTO:-0600
RDATE:20281105T020000
END:STANDARD
BEGIN:DAYLIGHT
TZNAME:CDT
DTSTART:20280312T020000
TZOFFSETFROM:-0600
TZOFFSETTO:-0500
RDATE:20290311T020000
END:DAYLIGHT
END:VTIMEZONE
BEGIN:VEVENT
UID:c632d153-f1b6-4366-9994-7b46591f3d9f
DTSTAMP:20260421T144110Z
DESCRIPTION:
DTSTART;TZID=America/Chicago:20280328T170000
DTEND;TZID=America/Chicago:20280328T200000
LOCATION:
SUMMARY:Volunteer Training
END:VEVENT
END:VCALENDAR
