BEGIN:VCALENDAR
VERSION:2.0
PRODID:-//webinar.firespring.org//NONSGML kigkonsult.se iCalcreator 2.30.10
 //
CALSCALE:GREGORIAN
METHOD:PUBLISH
UID:652e4f63-7fb3-4a6b-bc52-705496f7b823
X-WR-CALDESC:
X-WR-RELCALID:3a3403939a7ea46654cd842d175f8706
X-WR-TIMEZONE:America/Chicago
BEGIN:VTIMEZONE
TZID:America/Chicago
BEGIN:STANDARD
TZNAME:CST
DTSTART:20271107T020000
TZOFFSETFROM:-0500
TZOFFSETTO:-0600
RDATE:20281105T020000
END:STANDARD
BEGIN:DAYLIGHT
TZNAME:CDT
DTSTART:20280312T020000
TZOFFSETFROM:-0600
TZOFFSETTO:-0500
RDATE:20290311T020000
END:DAYLIGHT
END:VTIMEZONE
BEGIN:VEVENT
UID:c87e3b6e-6ff4-4df9-b44a-d801a893e8f9
DTSTAMP:20260421T143153Z
DESCRIPTION:
DTSTART;TZID=America/Chicago:20280323T110000
DTEND;TZID=America/Chicago:20280323T120000
LOCATION:
SUMMARY:Board Member Meeting
END:VEVENT
END:VCALENDAR
