BEGIN:VCALENDAR
VERSION:2.0
PRODID:-//webinar.firespring.org//NONSGML kigkonsult.se iCalcreator 2.30.10
 //
CALSCALE:GREGORIAN
METHOD:PUBLISH
UID:2349cada-f03d-4eee-9527-e193238a8076
X-WR-CALDESC:
X-WR-RELCALID:6df75bd774afafd3477e1d64bed5d71a
X-WR-TIMEZONE:America/Chicago
BEGIN:VTIMEZONE
TZID:America/Chicago
BEGIN:STANDARD
TZNAME:CST
DTSTART:20271107T020000
TZOFFSETFROM:-0500
TZOFFSETTO:-0600
RDATE:20281105T020000
END:STANDARD
BEGIN:DAYLIGHT
TZNAME:CDT
DTSTART:20270314T020000
TZOFFSETFROM:-0600
TZOFFSETTO:-0500
RDATE:20280312T020000
RDATE:20290311T020000
END:DAYLIGHT
END:VTIMEZONE
BEGIN:VEVENT
UID:93eea144-339f-4e9e-a506-e5172dc6e587
DTSTAMP:20260421T131011Z
DESCRIPTION:
DTSTART;TZID=America/Chicago:20280222T170000
DTEND;TZID=America/Chicago:20280222T200000
LOCATION:
SUMMARY:Volunteer Training
END:VEVENT
END:VCALENDAR
