BEGIN:VCALENDAR
VERSION:2.0
PRODID:-//webinar.firespring.org//NONSGML kigkonsult.se iCalcreator 2.30.10
 //
CALSCALE:GREGORIAN
METHOD:PUBLISH
UID:7f9aafc5-9a14-4959-a0b6-30d201da5e63
X-WR-CALDESC:
X-WR-RELCALID:d30e0f20aaac3225ac1a01b9bc483a10
X-WR-TIMEZONE:America/Chicago
BEGIN:VTIMEZONE
TZID:America/Chicago
BEGIN:STANDARD
TZNAME:CST
DTSTART:20271107T020000
TZOFFSETFROM:-0500
TZOFFSETTO:-0600
RDATE:20281105T020000
END:STANDARD
BEGIN:DAYLIGHT
TZNAME:CDT
DTSTART:20270314T020000
TZOFFSETFROM:-0600
TZOFFSETTO:-0500
RDATE:20280312T020000
RDATE:20290311T020000
END:DAYLIGHT
END:VTIMEZONE
BEGIN:VEVENT
UID:41a3823f-beb6-4093-a334-1d9684af2025
DTSTAMP:20260421T113054Z
DESCRIPTION:
DTSTART;TZID=America/Chicago:20280125T170000
DTEND;TZID=America/Chicago:20280125T200000
LOCATION:
SUMMARY:Volunteer Training
END:VEVENT
END:VCALENDAR
