BEGIN:VCALENDAR
VERSION:2.0
PRODID:-//webinar.firespring.org//NONSGML kigkonsult.se iCalcreator 2.30.10
 //
CALSCALE:GREGORIAN
METHOD:PUBLISH
UID:243e6738-9aad-4013-86eb-9466a147ec11
X-WR-CALDESC:
X-WR-RELCALID:fd099812b1c0b310329bad7082e84507
X-WR-TIMEZONE:America/Chicago
BEGIN:VTIMEZONE
TZID:America/Chicago
BEGIN:STANDARD
TZNAME:CST
DTSTART:20271107T020000
TZOFFSETFROM:-0500
TZOFFSETTO:-0600
RDATE:20281105T020000
END:STANDARD
BEGIN:DAYLIGHT
TZNAME:CDT
DTSTART:20270314T020000
TZOFFSETFROM:-0600
TZOFFSETTO:-0500
RDATE:20280312T020000
RDATE:20290311T020000
END:DAYLIGHT
END:VTIMEZONE
BEGIN:VEVENT
UID:6892f1e3-dd9d-456e-ab2a-5c7a1444cdb0
DTSTAMP:20260421T113230Z
DESCRIPTION:
DTSTART;TZID=America/Chicago:20280106T100000
DTEND;TZID=America/Chicago:20280106T110000
LOCATION:
SUMMARY:Volunteer Event
END:VEVENT
END:VCALENDAR
