BEGIN:VCALENDAR
VERSION:2.0
PRODID:-//webinar.firespring.org//NONSGML kigkonsult.se iCalcreator 2.30.10
 //
CALSCALE:GREGORIAN
METHOD:PUBLISH
UID:b2220bc0-2058-4de3-b7a7-ff365db1aa75
X-WR-CALDESC:Join us for our monthly staff meeting.
X-WR-RELCALID:7244893b679925775cedb5294a29dbeb
X-WR-TIMEZONE:America/Chicago
BEGIN:VTIMEZONE
TZID:America/Chicago
BEGIN:STANDARD
TZNAME:CST
DTSTART:20271107T020000
TZOFFSETFROM:-0500
TZOFFSETTO:-0600
RDATE:20281105T020000
END:STANDARD
BEGIN:DAYLIGHT
TZNAME:CDT
DTSTART:20270314T020000
TZOFFSETFROM:-0600
TZOFFSETTO:-0500
RDATE:20280312T020000
RDATE:20290311T020000
END:DAYLIGHT
END:VTIMEZONE
BEGIN:VEVENT
UID:0de921c1-6bfe-4423-98da-731a93bb1e12
DTSTAMP:20260421T095241Z
DESCRIPTION:Join us for our monthly staff meeting.
DTSTART;TZID=America/Chicago:20271104T140000
DTEND;TZID=America/Chicago:20271104T153000
LOCATION:1201 Infinity Court Lincoln NE
SUMMARY:Staff Meeting
END:VEVENT
END:VCALENDAR
