BEGIN:VCALENDAR
VERSION:2.0
PRODID:-//webinar.firespring.org//NONSGML kigkonsult.se iCalcreator 2.30.10
 //
CALSCALE:GREGORIAN
METHOD:PUBLISH
UID:77e4335b-db8b-4eee-8e82-5de7070680c7
X-WR-CALDESC:
X-WR-RELCALID:1aac7991159ae569e08ee0c985463ad9
X-WR-TIMEZONE:America/Chicago
BEGIN:VTIMEZONE
TZID:America/Chicago
BEGIN:STANDARD
TZNAME:CST
DTSTART:20231105T020000
TZOFFSETFROM:-0500
TZOFFSETTO:-0600
RDATE:20241103T020000
RDATE:20251102T020000
END:STANDARD
BEGIN:DAYLIGHT
TZNAME:CDT
DTSTART:20240310T020000
TZOFFSETFROM:-0600
TZOFFSETTO:-0500
RDATE:20250309T020000
END:DAYLIGHT
END:VTIMEZONE
BEGIN:VEVENT
UID:e35f21d0-7568-4904-b2dc-5d1b6fd5ecf2
DTSTAMP:20260419T120324Z
DESCRIPTION:
DTSTART;TZID=America/Chicago:20240827T170000
DTEND;TZID=America/Chicago:20240827T200000
LOCATION:
SUMMARY:Volunteer Training
END:VEVENT
END:VCALENDAR
