BEGIN:VCALENDAR
VERSION:2.0
PRODID:-//webinar.firespring.org//NONSGML kigkonsult.se iCalcreator 2.30.10
 //
CALSCALE:GREGORIAN
METHOD:PUBLISH
UID:7375a310-ffef-4b68-9c48-36aeb3f418d4
X-WR-CALDESC:
X-WR-RELCALID:e6c114de2c0561ca8d834d60823693a2
X-WR-TIMEZONE:America/Chicago
BEGIN:VTIMEZONE
TZID:America/Chicago
BEGIN:STANDARD
TZNAME:CST
DTSTART:20231105T020000
TZOFFSETFROM:-0500
TZOFFSETTO:-0600
RDATE:20241103T020000
RDATE:20251102T020000
END:STANDARD
BEGIN:DAYLIGHT
TZNAME:CDT
DTSTART:20240310T020000
TZOFFSETFROM:-0600
TZOFFSETTO:-0500
RDATE:20250309T020000
END:DAYLIGHT
END:VTIMEZONE
BEGIN:VEVENT
UID:d7bc6ac7-8d61-4e23-935d-93f84348afec
DTSTAMP:20260421T082547Z
DESCRIPTION:
DTSTART;TZID=America/Chicago:20240723T170000
DTEND;TZID=America/Chicago:20240723T200000
LOCATION:
SUMMARY:Volunteer Training
END:VEVENT
END:VCALENDAR
