BEGIN:VCALENDAR
VERSION:2.0
PRODID:-//webinar.firespring.org//NONSGML kigkonsult.se iCalcreator 2.30.10
 //
CALSCALE:GREGORIAN
METHOD:PUBLISH
UID:aefb9610-e0db-4910-893f-f92b1d1be444
X-WR-CALDESC:
X-WR-RELCALID:fe8ac6d33cd48d9213c2e66b7debd48a
X-WR-TIMEZONE:America/Chicago
BEGIN:VTIMEZONE
TZID:America/Chicago
BEGIN:STANDARD
TZNAME:CST
DTSTART:20231105T020000
TZOFFSETFROM:-0500
TZOFFSETTO:-0600
RDATE:20241103T020000
RDATE:20251102T020000
END:STANDARD
BEGIN:DAYLIGHT
TZNAME:CDT
DTSTART:20240310T020000
TZOFFSETFROM:-0600
TZOFFSETTO:-0500
RDATE:20250309T020000
END:DAYLIGHT
END:VTIMEZONE
BEGIN:VEVENT
UID:e0bd2d64-59c7-4a9b-808b-38725fee425f
DTSTAMP:20260419T132224Z
DESCRIPTION:
DTSTART;TZID=America/Chicago:20240706T100000
DTEND;TZID=America/Chicago:20240706T110000
LOCATION:
SUMMARY:Volunteer Event
END:VEVENT
END:VCALENDAR
