BEGIN:VCALENDAR
VERSION:2.0
PRODID:-//webinar.firespring.org//NONSGML kigkonsult.se iCalcreator 2.30.10
 //
CALSCALE:GREGORIAN
METHOD:PUBLISH
UID:b26a7c6a-4711-496d-9744-768a2a405622
X-WR-CALDESC:
X-WR-RELCALID:04905c9786a066c78e99bd806aebeb29
X-WR-TIMEZONE:America/Chicago
BEGIN:VTIMEZONE
TZID:America/Chicago
BEGIN:STANDARD
TZNAME:CST
DTSTART:20231105T020000
TZOFFSETFROM:-0500
TZOFFSETTO:-0600
RDATE:20241103T020000
RDATE:20251102T020000
END:STANDARD
BEGIN:DAYLIGHT
TZNAME:CDT
DTSTART:20240310T020000
TZOFFSETFROM:-0600
TZOFFSETTO:-0500
RDATE:20250309T020000
END:DAYLIGHT
END:VTIMEZONE
BEGIN:VEVENT
UID:e405d80b-6513-4926-8e14-55b5e3be8ad7
DTSTAMP:20260419T170520Z
DESCRIPTION:
DTSTART;TZID=America/Chicago:20240528T170000
DTEND;TZID=America/Chicago:20240528T200000
LOCATION:
SUMMARY:Volunteer Training
END:VEVENT
END:VCALENDAR
