BEGIN:VCALENDAR
VERSION:2.0
PRODID:-//webinar.firespring.org//NONSGML kigkonsult.se iCalcreator 2.30.10
 //
CALSCALE:GREGORIAN
METHOD:PUBLISH
UID:62a29a2e-998a-4796-86dc-94cd49d5a3ca
X-WR-CALDESC:
X-WR-RELCALID:983618a2cd60f78a3c0ad07c7943d51b
X-WR-TIMEZONE:America/Chicago
BEGIN:VTIMEZONE
TZID:America/Chicago
BEGIN:STANDARD
TZNAME:CST
DTSTART:20231105T020000
TZOFFSETFROM:-0500
TZOFFSETTO:-0600
RDATE:20241103T020000
END:STANDARD
BEGIN:DAYLIGHT
TZNAME:CDT
DTSTART:20240310T020000
TZOFFSETFROM:-0600
TZOFFSETTO:-0500
RDATE:20250309T020000
END:DAYLIGHT
END:VTIMEZONE
BEGIN:VEVENT
UID:5abcc244-7a26-4de3-a11c-74b8d0bd6a2a
DTSTAMP:20260419T163828Z
DESCRIPTION:
DTSTART;TZID=America/Chicago:20240502T140000
DTEND;TZID=America/Chicago:20240502T150000
LOCATION:
SUMMARY:Springboard 102: All About Events
END:VEVENT
END:VCALENDAR
