BEGIN:VCALENDAR
VERSION:2.0
PRODID:-//webinar.firespring.org//NONSGML kigkonsult.se iCalcreator 2.30.10
 //
CALSCALE:GREGORIAN
METHOD:PUBLISH
UID:bce6ceb3-2d1f-4b31-83ad-24ffe6db2ac1
X-WR-CALDESC:
X-WR-RELCALID:55a731bc8885ea42e6caa2e54dccf78c
X-WR-TIMEZONE:America/Chicago
BEGIN:VTIMEZONE
TZID:America/Chicago
BEGIN:STANDARD
TZNAME:CST
DTSTART:20231105T020000
TZOFFSETFROM:-0500
TZOFFSETTO:-0600
RDATE:20241103T020000
END:STANDARD
BEGIN:DAYLIGHT
TZNAME:CDT
DTSTART:20240310T020000
TZOFFSETFROM:-0600
TZOFFSETTO:-0500
RDATE:20250309T020000
END:DAYLIGHT
END:VTIMEZONE
BEGIN:VEVENT
UID:ade09307-fc9c-45f8-9faf-e7daae5585fe
DTSTAMP:20260419T200657Z
DESCRIPTION:
DTSTART;TZID=America/Chicago:20240326T170000
DTEND;TZID=America/Chicago:20240326T200000
LOCATION:
SUMMARY:Volunteer Training
END:VEVENT
END:VCALENDAR
