BEGIN:VCALENDAR
VERSION:2.0
PRODID:-//webinar.firespring.org//NONSGML kigkonsult.se iCalcreator 2.30.10
 //
CALSCALE:GREGORIAN
METHOD:PUBLISH
UID:7c5bc126-670f-47f6-9476-8a3eda08b135
X-WR-CALDESC:
X-WR-RELCALID:1e137d9b1cfd453692f1c1ec882c8a45
X-WR-TIMEZONE:America/Chicago
BEGIN:VTIMEZONE
TZID:America/Chicago
BEGIN:STANDARD
TZNAME:CST
DTSTART:20231105T020000
TZOFFSETFROM:-0500
TZOFFSETTO:-0600
RDATE:20241103T020000
END:STANDARD
BEGIN:DAYLIGHT
TZNAME:CDT
DTSTART:20230312T020000
TZOFFSETFROM:-0600
TZOFFSETTO:-0500
RDATE:20240310T020000
RDATE:20250309T020000
END:DAYLIGHT
END:VTIMEZONE
BEGIN:VEVENT
UID:e6f23bcc-c63c-49dd-9f7f-5e03d656e405
DTSTAMP:20260419T233548Z
DESCRIPTION:
DTSTART;TZID=America/Chicago:20240123T170000
DTEND;TZID=America/Chicago:20240123T200000
LOCATION:
SUMMARY:Volunteer Training
END:VEVENT
END:VCALENDAR
