BEGIN:VCALENDAR
VERSION:2.0
PRODID:-//webinar.firespring.org//NONSGML kigkonsult.se iCalcreator 2.30.10
 //
CALSCALE:GREGORIAN
METHOD:PUBLISH
UID:1f25e789-aaf4-47a4-b50f-630d973baa97
X-WR-CALDESC:
X-WR-RELCALID:b9b8388d7245039ead29195643ff2cd4
X-WR-TIMEZONE:America/Chicago
BEGIN:VTIMEZONE
TZID:America/Chicago
BEGIN:STANDARD
TZNAME:CST
DTSTART:20231105T020000
TZOFFSETFROM:-0500
TZOFFSETTO:-0600
RDATE:20241103T020000
END:STANDARD
BEGIN:DAYLIGHT
TZNAME:CDT
DTSTART:20230312T020000
TZOFFSETFROM:-0600
TZOFFSETTO:-0500
RDATE:20240310T020000
RDATE:20250309T020000
END:DAYLIGHT
END:VTIMEZONE
BEGIN:VEVENT
UID:dcf405ed-674a-4079-97bc-b8de3580edc5
DTSTAMP:20260420T011039Z
DESCRIPTION:
DTSTART;TZID=America/Chicago:20231226T170000
DTEND;TZID=America/Chicago:20231226T200000
LOCATION:
SUMMARY:Volunteer Training
END:VEVENT
END:VCALENDAR
