BEGIN:VCALENDAR
VERSION:2.0
PRODID:-//webinar.firespring.org//NONSGML kigkonsult.se iCalcreator 2.30.10
 //
CALSCALE:GREGORIAN
METHOD:PUBLISH
UID:9fa17a5f-83c2-4699-87d4-4e07794ec308
X-WR-CALDESC:
X-WR-RELCALID:689fdcd39acaf6b2ca32f35522b65d14
X-WR-TIMEZONE:America/Chicago
BEGIN:VTIMEZONE
TZID:America/Chicago
BEGIN:STANDARD
TZNAME:CST
DTSTART:20231105T020000
TZOFFSETFROM:-0500
TZOFFSETTO:-0600
RDATE:20241103T020000
END:STANDARD
BEGIN:DAYLIGHT
TZNAME:CDT
DTSTART:20230312T020000
TZOFFSETFROM:-0600
TZOFFSETTO:-0500
RDATE:20240310T020000
RDATE:20250309T020000
END:DAYLIGHT
END:VTIMEZONE
BEGIN:VEVENT
UID:24189994-77ae-4024-bd24-2a6a01aaaca2
DTSTAMP:20260420T025152Z
DESCRIPTION:
DTSTART;TZID=America/Chicago:20231128T170000
DTEND;TZID=America/Chicago:20231128T200000
LOCATION:
SUMMARY:Volunteer Training
END:VEVENT
END:VCALENDAR
