BEGIN:VCALENDAR
VERSION:2.0
PRODID:-//webinar.firespring.org//NONSGML kigkonsult.se iCalcreator 2.30.10
 //
CALSCALE:GREGORIAN
METHOD:PUBLISH
UID:47b59cb6-5728-4cc3-b19f-859bb059d760
X-WR-CALDESC:
X-WR-RELCALID:d0fdb0b86cc542cf842f97984a207087
X-WR-TIMEZONE:America/Chicago
BEGIN:VTIMEZONE
TZID:America/Chicago
BEGIN:STANDARD
TZNAME:CST
DTSTART:20221106T020000
TZOFFSETFROM:-0500
TZOFFSETTO:-0600
RDATE:20231105T020000
RDATE:20241103T020000
END:STANDARD
BEGIN:DAYLIGHT
TZNAME:CDT
DTSTART:20230312T020000
TZOFFSETFROM:-0600
TZOFFSETTO:-0500
RDATE:20240310T020000
RDATE:20250309T020000
END:DAYLIGHT
END:VTIMEZONE
BEGIN:VEVENT
UID:05cdbdb5-f48a-4a48-ae5f-ac8030c40a38
DTSTAMP:20260420T042622Z
DESCRIPTION:
DTSTART;TZID=America/Chicago:20231001T093000
DTEND;TZID=America/Chicago:20231001T103000
LOCATION:
SUMMARY:Company Wide Retreat
END:VEVENT
END:VCALENDAR
