BEGIN:VCALENDAR
VERSION:2.0
PRODID:-//webinar.firespring.org//NONSGML kigkonsult.se iCalcreator 2.30.10
 //
CALSCALE:GREGORIAN
METHOD:PUBLISH
UID:8aa425ed-81e5-471e-a39e-4cee4b88278a
X-WR-CALDESC:
X-WR-RELCALID:8ba8699b98ced4430ef4f4405c88c931
X-WR-TIMEZONE:America/Chicago
BEGIN:VTIMEZONE
TZID:America/Chicago
BEGIN:STANDARD
TZNAME:CST
DTSTART:20221106T020000
TZOFFSETFROM:-0500
TZOFFSETTO:-0600
RDATE:20231105T020000
RDATE:20241103T020000
END:STANDARD
BEGIN:DAYLIGHT
TZNAME:CDT
DTSTART:20230312T020000
TZOFFSETFROM:-0600
TZOFFSETTO:-0500
RDATE:20240310T020000
END:DAYLIGHT
END:VTIMEZONE
BEGIN:VEVENT
UID:810fb5e7-ef10-4a31-acca-bf0ee0f77120
DTSTAMP:20260420T074343Z
DESCRIPTION:
DTSTART;TZID=America/Chicago:20230824T163000
DTEND;TZID=America/Chicago:20230824T173000
LOCATION:
SUMMARY:Test
END:VEVENT
END:VCALENDAR
