BEGIN:VCALENDAR
VERSION:2.0
PRODID:-//webinar.firespring.org//NONSGML kigkonsult.se iCalcreator 2.30.10
 //
CALSCALE:GREGORIAN
METHOD:PUBLISH
UID:30dcb688-cd64-4413-a2b2-6e302206369a
X-WR-CALDESC:
X-WR-RELCALID:547861d59f6e2584fee3ea6839a45547
X-WR-TIMEZONE:America/Chicago
BEGIN:VTIMEZONE
TZID:America/Chicago
BEGIN:STANDARD
TZNAME:CST
DTSTART:20221106T020000
TZOFFSETFROM:-0500
TZOFFSETTO:-0600
RDATE:20231105T020000
RDATE:20241103T020000
END:STANDARD
BEGIN:DAYLIGHT
TZNAME:CDT
DTSTART:20230312T020000
TZOFFSETFROM:-0600
TZOFFSETTO:-0500
RDATE:20240310T020000
END:DAYLIGHT
END:VTIMEZONE
BEGIN:VEVENT
UID:7073fc67-683a-4c28-9629-8594d93542c2
DTSTAMP:20260420T072727Z
DESCRIPTION:
DTSTART;TZID=America/Chicago:20230822T170000
DTEND;TZID=America/Chicago:20230822T200000
LOCATION:
SUMMARY:Volunteer Training
END:VEVENT
END:VCALENDAR
