BEGIN:VCALENDAR
VERSION:2.0
PRODID:-//webinar.firespring.org//NONSGML kigkonsult.se iCalcreator 2.30.10
 //
CALSCALE:GREGORIAN
METHOD:PUBLISH
UID:ffab433f-6657-4d87-a0b9-71de6dfcae9f
X-WR-CALDESC:
X-WR-RELCALID:9e19a7c0ee64f7452724fc75d224167b
X-WR-TIMEZONE:America/Chicago
BEGIN:VTIMEZONE
TZID:America/Chicago
BEGIN:STANDARD
TZNAME:CST
DTSTART:20221106T020000
TZOFFSETFROM:-0500
TZOFFSETTO:-0600
RDATE:20231105T020000
RDATE:20241103T020000
END:STANDARD
BEGIN:DAYLIGHT
TZNAME:CDT
DTSTART:20230312T020000
TZOFFSETFROM:-0600
TZOFFSETTO:-0500
RDATE:20240310T020000
END:DAYLIGHT
END:VTIMEZONE
BEGIN:VEVENT
UID:8c24547a-6f62-4272-9a45-4f43a533d914
DTSTAMP:20260420T091021Z
DESCRIPTION:
DTSTART;TZID=America/Chicago:20230727T110000
DTEND;TZID=America/Chicago:20230727T120000
LOCATION:
SUMMARY:Board Member Meeting
END:VEVENT
END:VCALENDAR
