BEGIN:VCALENDAR
VERSION:2.0
PRODID:-//webinar.firespring.org//NONSGML kigkonsult.se iCalcreator 2.30.10
 //
CALSCALE:GREGORIAN
METHOD:PUBLISH
UID:17e051d3-8c7d-47df-941c-f18ca949dc6c
X-WR-CALDESC:
X-WR-RELCALID:15e8c0a570d2a82f5d5fa04471cce7ad
X-WR-TIMEZONE:America/Chicago
BEGIN:VTIMEZONE
TZID:America/Chicago
BEGIN:STANDARD
TZNAME:CST
DTSTART:20221106T020000
TZOFFSETFROM:-0500
TZOFFSETTO:-0600
RDATE:20231105T020000
END:STANDARD
BEGIN:DAYLIGHT
TZNAME:CDT
DTSTART:20230312T020000
TZOFFSETFROM:-0600
TZOFFSETTO:-0500
RDATE:20240310T020000
END:DAYLIGHT
END:VTIMEZONE
BEGIN:VEVENT
UID:33b8da61-fdb5-49e3-877f-98f79c6bcf19
DTSTAMP:20260420T132938Z
DESCRIPTION:
DTSTART;TZID=America/Chicago:20230425T170000
DTEND;TZID=America/Chicago:20230425T200000
LOCATION:
SUMMARY:Volunteer Training
END:VEVENT
END:VCALENDAR
