BEGIN:VCALENDAR
VERSION:2.0
PRODID:-//webinar.firespring.org//NONSGML kigkonsult.se iCalcreator 2.30.10
 //
CALSCALE:GREGORIAN
METHOD:PUBLISH
UID:33be82f5-bff5-4d12-b009-7781eeb0969a
X-WR-CALDESC:
X-WR-RELCALID:35d659add3892d4e2d5cb61e688b2e30
X-WR-TIMEZONE:America/Chicago
BEGIN:VTIMEZONE
TZID:America/Chicago
BEGIN:STANDARD
TZNAME:CST
DTSTART:20221106T020000
TZOFFSETFROM:-0500
TZOFFSETTO:-0600
RDATE:20231105T020000
END:STANDARD
BEGIN:DAYLIGHT
TZNAME:CDT
DTSTART:20230312T020000
TZOFFSETFROM:-0600
TZOFFSETTO:-0500
RDATE:20240310T020000
END:DAYLIGHT
END:VTIMEZONE
BEGIN:VEVENT
UID:70568657-cffb-4dbb-b0b8-690f573fac6b
DTSTAMP:20260422T123715Z
DESCRIPTION:
DTSTART;TZID=America/Chicago:20230328T170000
DTEND;TZID=America/Chicago:20230328T200000
LOCATION:
SUMMARY:Volunteer Training
END:VEVENT
END:VCALENDAR
