BEGIN:VCALENDAR
VERSION:2.0
PRODID:-//webinar.firespring.org//NONSGML kigkonsult.se iCalcreator 2.30.10
 //
CALSCALE:GREGORIAN
METHOD:PUBLISH
UID:e0bd2e79-8bf8-498b-914d-7598d8a0b4fc
X-WR-CALDESC:
X-WR-RELCALID:3fe41eb43d6c925124e0e9e56a3cb18b
X-WR-TIMEZONE:America/Chicago
BEGIN:VTIMEZONE
TZID:America/Chicago
BEGIN:STANDARD
TZNAME:CST
DTSTART:20221106T020000
TZOFFSETFROM:-0500
TZOFFSETTO:-0600
RDATE:20231105T020000
END:STANDARD
BEGIN:DAYLIGHT
TZNAME:CDT
DTSTART:20220313T020000
TZOFFSETFROM:-0600
TZOFFSETTO:-0500
RDATE:20230312T020000
RDATE:20240310T020000
END:DAYLIGHT
END:VTIMEZONE
BEGIN:VEVENT
UID:de333e0b-7ee7-443d-91a4-5413f92042d6
DTSTAMP:20260422T172544Z
DESCRIPTION:
DTSTART;TZID=America/Chicago:20221227T170000
DTEND;TZID=America/Chicago:20221227T200000
LOCATION:
SUMMARY:Volunteer Training
END:VEVENT
END:VCALENDAR
