BEGIN:VCALENDAR
VERSION:2.0
PRODID:-//webinar.firespring.org//NONSGML kigkonsult.se iCalcreator 2.30.10
 //
CALSCALE:GREGORIAN
METHOD:PUBLISH
UID:d9e1fdc7-0636-49e6-8558-091f45f0062d
X-WR-CALDESC:
X-WR-RELCALID:d6723c303de3ffd503ae27b86181c808
X-WR-TIMEZONE:America/Chicago
BEGIN:VTIMEZONE
TZID:America/Chicago
BEGIN:STANDARD
TZNAME:CST
DTSTART:20221106T020000
TZOFFSETFROM:-0500
TZOFFSETTO:-0600
RDATE:20231105T020000
END:STANDARD
BEGIN:DAYLIGHT
TZNAME:CDT
DTSTART:20220313T020000
TZOFFSETFROM:-0600
TZOFFSETTO:-0500
RDATE:20230312T020000
RDATE:20240310T020000
END:DAYLIGHT
END:VTIMEZONE
BEGIN:VEVENT
UID:ece6ef0c-3b46-4586-9f6e-098dca5114b4
DTSTAMP:20260422T190341Z
DESCRIPTION:
DTSTART;TZID=America/Chicago:20221122T170000
DTEND;TZID=America/Chicago:20221122T200000
LOCATION:
SUMMARY:Volunteer Training
END:VEVENT
END:VCALENDAR
