BEGIN:VCALENDAR
VERSION:2.0
PRODID:-//webinar.firespring.org//NONSGML kigkonsult.se iCalcreator 2.30.10
 //
CALSCALE:GREGORIAN
METHOD:PUBLISH
UID:8ab3d55d-e4ea-4f78-940e-5fff5e82f268
X-WR-CALDESC:
X-WR-RELCALID:e1d86c8cccf7a5d8a1fc47fb5e43f20e
X-WR-TIMEZONE:America/Chicago
BEGIN:VTIMEZONE
TZID:America/Chicago
BEGIN:STANDARD
TZNAME:CST
DTSTART:20211107T020000
TZOFFSETFROM:-0500
TZOFFSETTO:-0600
RDATE:20221106T020000
RDATE:20231105T020000
END:STANDARD
BEGIN:DAYLIGHT
TZNAME:CDT
DTSTART:20220313T020000
TZOFFSETFROM:-0600
TZOFFSETTO:-0500
RDATE:20230312T020000
RDATE:20240310T020000
END:DAYLIGHT
END:VTIMEZONE
BEGIN:VEVENT
UID:d7548962-daa5-4494-bef2-c490776467ab
DTSTAMP:20260422T202647Z
DESCRIPTION:
DTSTART;TZID=America/Chicago:20221025T170000
DTEND;TZID=America/Chicago:20221025T200000
LOCATION:
SUMMARY:Volunteer Training
END:VEVENT
END:VCALENDAR
