BEGIN:VCALENDAR
VERSION:2.0
PRODID:-//webinar.firespring.org//NONSGML kigkonsult.se iCalcreator 2.30.10
 //
CALSCALE:GREGORIAN
METHOD:PUBLISH
UID:3ecd6347-6ad1-4eef-a1ac-597ebe678147
X-WR-CALDESC:
X-WR-RELCALID:bd2e59146082fcc49031b5a8873d41d1
X-WR-TIMEZONE:America/Chicago
BEGIN:VTIMEZONE
TZID:America/Chicago
BEGIN:STANDARD
TZNAME:CST
DTSTART:20211107T020000
TZOFFSETFROM:-0500
TZOFFSETTO:-0600
RDATE:20221106T020000
RDATE:20231105T020000
END:STANDARD
BEGIN:DAYLIGHT
TZNAME:CDT
DTSTART:20220313T020000
TZOFFSETFROM:-0600
TZOFFSETTO:-0500
RDATE:20230312T020000
RDATE:20240310T020000
END:DAYLIGHT
END:VTIMEZONE
BEGIN:VEVENT
UID:53130beb-359d-42fd-a287-8ab3ab940356
DTSTAMP:20260422T221610Z
DESCRIPTION:
DTSTART;TZID=America/Chicago:20220922T110000
DTEND;TZID=America/Chicago:20220922T120000
LOCATION:
SUMMARY:Board Member Meeting
END:VEVENT
END:VCALENDAR
