BEGIN:VCALENDAR
VERSION:2.0
PRODID:-//webinar.firespring.org//NONSGML kigkonsult.se iCalcreator 2.30.10
 //
CALSCALE:GREGORIAN
METHOD:PUBLISH
UID:af4f6542-7dc3-423d-abcd-ab057e98129f
X-WR-CALDESC:
X-WR-RELCALID:0d68aa43b8137c10d6fb62d7f783ec98
X-WR-TIMEZONE:America/Chicago
BEGIN:VTIMEZONE
TZID:America/Chicago
BEGIN:STANDARD
TZNAME:CST
DTSTART:20211107T020000
TZOFFSETFROM:-0500
TZOFFSETTO:-0600
RDATE:20221106T020000
RDATE:20231105T020000
END:STANDARD
BEGIN:DAYLIGHT
TZNAME:CDT
DTSTART:20220313T020000
TZOFFSETFROM:-0600
TZOFFSETTO:-0500
RDATE:20230312T020000
END:DAYLIGHT
END:VTIMEZONE
BEGIN:VEVENT
UID:be4c9ae5-cb0d-477d-8958-74775035de87
DTSTAMP:20260423T005417Z
DESCRIPTION:
DTSTART;TZID=America/Chicago:20220726T170000
DTEND;TZID=America/Chicago:20220726T200000
LOCATION:
SUMMARY:Volunteer Training
END:VEVENT
END:VCALENDAR
