BEGIN:VCALENDAR
VERSION:2.0
PRODID:-//webinar.firespring.org//NONSGML kigkonsult.se iCalcreator 2.30.10
 //
CALSCALE:GREGORIAN
METHOD:PUBLISH
UID:04aa5c7d-67c5-4cf3-ba5b-fa2fbd6525ea
X-WR-CALDESC:
X-WR-RELCALID:eef5171f81a0dca6bf8759d000920518
X-WR-TIMEZONE:America/Chicago
BEGIN:VTIMEZONE
TZID:America/Chicago
BEGIN:STANDARD
TZNAME:CST
DTSTART:20211107T020000
TZOFFSETFROM:-0500
TZOFFSETTO:-0600
RDATE:20221106T020000
RDATE:20231105T020000
END:STANDARD
BEGIN:DAYLIGHT
TZNAME:CDT
DTSTART:20220313T020000
TZOFFSETFROM:-0600
TZOFFSETTO:-0500
RDATE:20230312T020000
END:DAYLIGHT
END:VTIMEZONE
BEGIN:VEVENT
UID:bcd291e9-0c2b-4e2d-b850-dbb79e64948f
DTSTAMP:20260423T005312Z
DESCRIPTION:
DTSTART;TZID=America/Chicago:20220706T100000
DTEND;TZID=America/Chicago:20220706T110000
LOCATION:
SUMMARY:Volunteer Event
END:VEVENT
END:VCALENDAR
