BEGIN:VCALENDAR
VERSION:2.0
PRODID:-//webinar.firespring.org//NONSGML kigkonsult.se iCalcreator 2.30.10
 //
CALSCALE:GREGORIAN
METHOD:PUBLISH
UID:51587eb9-23be-4614-aed3-d8cadacbc958
X-WR-CALDESC:
X-WR-RELCALID:c59e290baa73f3a9793faf0cc29b5275
X-WR-TIMEZONE:America/Chicago
BEGIN:VTIMEZONE
TZID:America/Chicago
BEGIN:STANDARD
TZNAME:CST
DTSTART:20211107T020000
TZOFFSETFROM:-0500
TZOFFSETTO:-0600
RDATE:20221106T020000
RDATE:20231105T020000
END:STANDARD
BEGIN:DAYLIGHT
TZNAME:CDT
DTSTART:20220313T020000
TZOFFSETFROM:-0600
TZOFFSETTO:-0500
RDATE:20230312T020000
END:DAYLIGHT
END:VTIMEZONE
BEGIN:VEVENT
UID:02353f7b-c83f-4be9-84b1-1a3e93eaafba
DTSTAMP:20260423T023555Z
DESCRIPTION:
DTSTART;TZID=America/Chicago:20220628T170000
DTEND;TZID=America/Chicago:20220628T200000
LOCATION:
SUMMARY:Volunteer Training
END:VEVENT
END:VCALENDAR
