BEGIN:VCALENDAR
VERSION:2.0
PRODID:-//webinar.firespring.org//NONSGML kigkonsult.se iCalcreator 2.30.10
 //
CALSCALE:GREGORIAN
METHOD:PUBLISH
UID:399564f2-28f0-4e8e-a643-596e5c3ff62a
X-WR-CALDESC:
X-WR-RELCALID:a2cb13e20958377b6063fbd0611a15e1
X-WR-TIMEZONE:America/Chicago
BEGIN:VTIMEZONE
TZID:America/Chicago
BEGIN:STANDARD
TZNAME:CST
DTSTART:20211107T020000
TZOFFSETFROM:-0500
TZOFFSETTO:-0600
RDATE:20221106T020000
RDATE:20231105T020000
END:STANDARD
BEGIN:DAYLIGHT
TZNAME:CDT
DTSTART:20220313T020000
TZOFFSETFROM:-0600
TZOFFSETTO:-0500
RDATE:20230312T020000
END:DAYLIGHT
END:VTIMEZONE
BEGIN:VEVENT
UID:7ced5000-61f1-452f-89d8-619b51de723a
DTSTAMP:20260423T023846Z
DESCRIPTION:
DTSTART;TZID=America/Chicago:20220602T140000
DTEND;TZID=America/Chicago:20220602T150000
LOCATION:
SUMMARY:Springboard 102: All About Events
END:VEVENT
END:VCALENDAR
