BEGIN:VCALENDAR
VERSION:2.0
PRODID:-//webinar.firespring.org//NONSGML kigkonsult.se iCalcreator 2.30.10
 //
CALSCALE:GREGORIAN
METHOD:PUBLISH
UID:4ed19875-cc11-4b0b-9faa-4738833e8206
X-WR-CALDESC:
X-WR-RELCALID:25bfc0060433d10afc67ddadf40fa5c8
X-WR-TIMEZONE:America/Chicago
BEGIN:VTIMEZONE
TZID:America/Chicago
BEGIN:STANDARD
TZNAME:CST
DTSTART:20211107T020000
TZOFFSETFROM:-0500
TZOFFSETTO:-0600
RDATE:20221106T020000
RDATE:20231105T020000
END:STANDARD
BEGIN:DAYLIGHT
TZNAME:CDT
DTSTART:20220313T020000
TZOFFSETFROM:-0600
TZOFFSETTO:-0500
RDATE:20230312T020000
END:DAYLIGHT
END:VTIMEZONE
BEGIN:VEVENT
UID:c5cd3c78-3f05-4078-ab5f-88e58b04a811
DTSTAMP:20260423T041307Z
DESCRIPTION:
DTSTART;TZID=America/Chicago:20220524T170000
DTEND;TZID=America/Chicago:20220524T200000
LOCATION:
SUMMARY:Volunteer Training
END:VEVENT
END:VCALENDAR
