BEGIN:VCALENDAR
VERSION:2.0
PRODID:-//webinar.firespring.org//NONSGML kigkonsult.se iCalcreator 2.30.10
 //
CALSCALE:GREGORIAN
METHOD:PUBLISH
UID:f1984fdc-d23a-4790-a124-77bba3641754
X-WR-CALDESC:
X-WR-RELCALID:d2dcb9c1b4a5c4d38cf4d07a4669d98d
X-WR-TIMEZONE:America/Chicago
BEGIN:VTIMEZONE
TZID:America/Chicago
BEGIN:STANDARD
TZNAME:CST
DTSTART:20211107T020000
TZOFFSETFROM:-0500
TZOFFSETTO:-0600
RDATE:20221106T020000
END:STANDARD
BEGIN:DAYLIGHT
TZNAME:CDT
DTSTART:20220313T020000
TZOFFSETFROM:-0600
TZOFFSETTO:-0500
RDATE:20230312T020000
END:DAYLIGHT
END:VTIMEZONE
BEGIN:VEVENT
UID:d0734cab-25db-4503-a1e6-e1bae8bb4100
DTSTAMP:20260423T052820Z
DESCRIPTION:
DTSTART;TZID=America/Chicago:20220426T170000
DTEND;TZID=America/Chicago:20220426T200000
LOCATION:
SUMMARY:Volunteer Training
END:VEVENT
END:VCALENDAR
