BEGIN:VCALENDAR
VERSION:2.0
PRODID:-//webinar.firespring.org//NONSGML kigkonsult.se iCalcreator 2.30.10
 //
CALSCALE:GREGORIAN
METHOD:PUBLISH
UID:18e6159d-e773-42d9-b490-af81bf6efa58
X-WR-CALDESC:
X-WR-RELCALID:2b97b11c31222f001ffab26f87e20e0a
X-WR-TIMEZONE:America/Chicago
BEGIN:VTIMEZONE
TZID:America/Chicago
BEGIN:STANDARD
TZNAME:CST
DTSTART:20211107T020000
TZOFFSETFROM:-0500
TZOFFSETTO:-0600
RDATE:20221106T020000
END:STANDARD
BEGIN:DAYLIGHT
TZNAME:CDT
DTSTART:20220313T020000
TZOFFSETFROM:-0600
TZOFFSETTO:-0500
RDATE:20230312T020000
END:DAYLIGHT
END:VTIMEZONE
BEGIN:VEVENT
UID:7c649572-658a-49f5-a72a-372f038758e5
DTSTAMP:20260423T053009Z
DESCRIPTION:
DTSTART;TZID=America/Chicago:20220406T100000
DTEND;TZID=America/Chicago:20220406T110000
LOCATION:
SUMMARY:Volunteer Event
END:VEVENT
END:VCALENDAR
