BEGIN:VCALENDAR
VERSION:2.0
PRODID:-//webinar.firespring.org//NONSGML kigkonsult.se iCalcreator 2.30.10
 //
CALSCALE:GREGORIAN
METHOD:PUBLISH
UID:3959496c-48d4-4fd5-b2ee-d2359659187d
X-WR-CALDESC:
X-WR-RELCALID:43b2584430e126b6e92415c2b32aad37
X-WR-TIMEZONE:America/Chicago
BEGIN:VTIMEZONE
TZID:America/Chicago
BEGIN:STANDARD
TZNAME:CST
DTSTART:20211107T020000
TZOFFSETFROM:-0500
TZOFFSETTO:-0600
RDATE:20221106T020000
END:STANDARD
BEGIN:DAYLIGHT
TZNAME:CDT
DTSTART:20220313T020000
TZOFFSETFROM:-0600
TZOFFSETTO:-0500
RDATE:20230312T020000
END:DAYLIGHT
END:VTIMEZONE
BEGIN:VEVENT
UID:47dc5cf9-c8c3-4208-9883-f8e72a022ec8
DTSTAMP:20260423T065252Z
DESCRIPTION:
DTSTART;TZID=America/Chicago:20220322T170000
DTEND;TZID=America/Chicago:20220322T200000
LOCATION:
SUMMARY:Volunteer Training
END:VEVENT
END:VCALENDAR
