BEGIN:VCALENDAR
VERSION:2.0
PRODID:-//webinar.firespring.org//NONSGML kigkonsult.se iCalcreator 2.30.10
 //
CALSCALE:GREGORIAN
METHOD:PUBLISH
UID:2b125d96-fc9f-4534-9c0e-4bd01c918f5b
X-WR-CALDESC:You have the ability to update your website 24/7 and we’re her
 e to teach you how. Quickly learn how to customize and manage your nonprof
 it website by using the Springboard. From updating content\, images\, form
 s and collections to changing page and section names or news articles\, th
 is session will teach you how to operate your site.
X-WR-RELCALID:875ef0ee9c4d16025d60b1ce54de4a3b
X-WR-TIMEZONE:America/Chicago
BEGIN:VTIMEZONE
TZID:America/Chicago
BEGIN:STANDARD
TZNAME:CST
DTSTART:20211107T020000
TZOFFSETFROM:-0500
TZOFFSETTO:-0600
RDATE:20221106T020000
END:STANDARD
BEGIN:DAYLIGHT
TZNAME:CDT
DTSTART:20210314T020000
TZOFFSETFROM:-0600
TZOFFSETTO:-0500
RDATE:20220313T020000
RDATE:20230312T020000
END:DAYLIGHT
END:VTIMEZONE
BEGIN:VEVENT
UID:ea4b350d-3e8e-4c89-b05e-1a7175c465e5
DTSTAMP:20260423T070202Z
DESCRIPTION:You have the ability to update your website 24/7 and we’re here
  to teach you how. Quickly learn how to customize and manage your nonprofi
 t website by using the Springboard. From updating content\, images\, forms
  and collections to changing page and section names or news articles\, thi
 s session will teach you how to operate your site.
DTSTART;TZID=America/Chicago:20220309T140000
DTEND;TZID=America/Chicago:20220309T150000
LOCATION:
SUMMARY:Springboard 101
END:VEVENT
END:VCALENDAR
