BEGIN:VCALENDAR
VERSION:2.0
PRODID:-//webinar.firespring.org//NONSGML kigkonsult.se iCalcreator 2.30.10
 //
CALSCALE:GREGORIAN
METHOD:PUBLISH
UID:def734d5-a3f7-4bd5-bc4b-0e7ccb29d62c
X-WR-CALDESC:
X-WR-RELCALID:bcb5f4d30048d17afbf1c4ad66b7a7bd
X-WR-TIMEZONE:America/Chicago
BEGIN:VTIMEZONE
TZID:America/Chicago
BEGIN:STANDARD
TZNAME:CST
DTSTART:20211107T020000
TZOFFSETFROM:-0500
TZOFFSETTO:-0600
RDATE:20221106T020000
END:STANDARD
BEGIN:DAYLIGHT
TZNAME:CDT
DTSTART:20210314T020000
TZOFFSETFROM:-0600
TZOFFSETTO:-0500
RDATE:20220313T020000
RDATE:20230312T020000
END:DAYLIGHT
END:VTIMEZONE
BEGIN:VEVENT
UID:1eb77399-b4ab-4106-aa43-d9fe1214f099
DTSTAMP:20260423T081430Z
DESCRIPTION:
DTSTART;TZID=America/Chicago:20220222T170000
DTEND;TZID=America/Chicago:20220222T200000
LOCATION:
SUMMARY:Volunteer Training
END:VEVENT
END:VCALENDAR
