BEGIN:VCALENDAR
VERSION:2.0
PRODID:-//webinar.firespring.org//NONSGML kigkonsult.se iCalcreator 2.30.10
 //
CALSCALE:GREGORIAN
METHOD:PUBLISH
UID:5f8705a9-4a05-4121-8b3e-3c5c00ec788f
X-WR-CALDESC:
X-WR-RELCALID:6937dcb3627730d676fe337bcbc0fa38
X-WR-TIMEZONE:America/Chicago
BEGIN:VTIMEZONE
TZID:America/Chicago
BEGIN:STANDARD
TZNAME:CST
DTSTART:20211107T020000
TZOFFSETFROM:-0500
TZOFFSETTO:-0600
RDATE:20221106T020000
END:STANDARD
BEGIN:DAYLIGHT
TZNAME:CDT
DTSTART:20210314T020000
TZOFFSETFROM:-0600
TZOFFSETTO:-0500
RDATE:20220313T020000
RDATE:20230312T020000
END:DAYLIGHT
END:VTIMEZONE
BEGIN:VEVENT
UID:b9252f34-ea03-406d-88be-d31210b4358a
DTSTAMP:20260423T093529Z
DESCRIPTION:
DTSTART;TZID=America/Chicago:20220125T170000
DTEND;TZID=America/Chicago:20220125T200000
LOCATION:
SUMMARY:Volunteer Training
END:VEVENT
END:VCALENDAR
