BEGIN:VCALENDAR
VERSION:2.0
PRODID:-//webinar.firespring.org//NONSGML kigkonsult.se iCalcreator 2.30.10
 //
CALSCALE:GREGORIAN
METHOD:PUBLISH
UID:ef49f644-4295-48bb-994c-0f2eaeeae564
X-WR-CALDESC:
X-WR-RELCALID:71836f4c28cc7c1cdc24eb0907e9351d
X-WR-TIMEZONE:America/Chicago
BEGIN:VTIMEZONE
TZID:America/Chicago
BEGIN:STANDARD
TZNAME:CST
DTSTART:20211107T020000
TZOFFSETFROM:-0500
TZOFFSETTO:-0600
RDATE:20221106T020000
END:STANDARD
BEGIN:DAYLIGHT
TZNAME:CDT
DTSTART:20210314T020000
TZOFFSETFROM:-0600
TZOFFSETTO:-0500
RDATE:20220313T020000
RDATE:20230312T020000
END:DAYLIGHT
END:VTIMEZONE
BEGIN:VEVENT
UID:f7b0ee26-6b6a-4c32-ac90-41163c58d19e
DTSTAMP:20260423T110435Z
DESCRIPTION:
DTSTART;TZID=America/Chicago:20211228T170000
DTEND;TZID=America/Chicago:20211228T200000
LOCATION:
SUMMARY:Volunteer Training
END:VEVENT
END:VCALENDAR
