BEGIN:VCALENDAR
VERSION:2.0
PRODID:-//webinar.firespring.org//NONSGML kigkonsult.se iCalcreator 2.30.10
 //
CALSCALE:GREGORIAN
METHOD:PUBLISH
UID:054db2e6-39c8-40b9-bb80-31a42cd4fd7a
X-WR-CALDESC:
X-WR-RELCALID:7c14bd4a495e9b21957531bf836225f3
X-WR-TIMEZONE:America/Chicago
BEGIN:VTIMEZONE
TZID:America/Chicago
BEGIN:STANDARD
TZNAME:CST
DTSTART:20201101T020000
TZOFFSETFROM:-0500
TZOFFSETTO:-0600
RDATE:20211107T020000
RDATE:20221106T020000
END:STANDARD
BEGIN:DAYLIGHT
TZNAME:CDT
DTSTART:20210314T020000
TZOFFSETFROM:-0600
TZOFFSETTO:-0500
RDATE:20220313T020000
RDATE:20230312T020000
END:DAYLIGHT
END:VTIMEZONE
BEGIN:VEVENT
UID:1e81576e-709d-496b-b437-7a635f92d54b
DTSTAMP:20260423T142043Z
DESCRIPTION:
DTSTART;TZID=America/Chicago:20211006T100000
DTEND;TZID=America/Chicago:20211006T110000
LOCATION:
SUMMARY:Volunteer Event
END:VEVENT
END:VCALENDAR
