BEGIN:VCALENDAR
VERSION:2.0
PRODID:-//webinar.firespring.org//NONSGML kigkonsult.se iCalcreator 2.30.10
 //
CALSCALE:GREGORIAN
METHOD:PUBLISH
UID:f4b6d962-1d2b-4489-aba5-b48ac431ddfe
X-WR-CALDESC:Give back to the community that loves you. Join us on October 
 5\, 2016 for a day of giving.
X-WR-RELCALID:0a14ea768c6514fd8ca99088cea486f8
X-WR-TIMEZONE:America/Chicago
BEGIN:VTIMEZONE
TZID:America/Chicago
BEGIN:STANDARD
TZNAME:CST
DTSTART:20201101T020000
TZOFFSETFROM:-0500
TZOFFSETTO:-0600
RDATE:20211107T020000
RDATE:20221106T020000
END:STANDARD
BEGIN:DAYLIGHT
TZNAME:CDT
DTSTART:20210314T020000
TZOFFSETFROM:-0600
TZOFFSETTO:-0500
RDATE:20220313T020000
RDATE:20230312T020000
END:DAYLIGHT
END:VTIMEZONE
BEGIN:VEVENT
UID:66def642-b71b-4b47-9621-83ebeeb8e46c
DTSTAMP:20260423T141302Z
DESCRIPTION:Give back to the community that loves you. Join us on October 5
 \, 2016 for a day of giving.
DTSTART;TZID=America/Chicago:20211005T000000
DTEND;TZID=America/Chicago:20211005T235900
LOCATION:Lincoln Nebraska
SUMMARY:Day of Giving
END:VEVENT
END:VCALENDAR
