BEGIN:VCALENDAR
VERSION:2.0
PRODID:-//webinar.firespring.org//NONSGML kigkonsult.se iCalcreator 2.30.10
 //
CALSCALE:GREGORIAN
METHOD:PUBLISH
UID:083dcae5-07bd-4878-8c34-4fac494a1acc
X-WR-CALDESC:
X-WR-RELCALID:41308e4a42b3b5d63c5ec3d3c842f371
X-WR-TIMEZONE:America/Chicago
BEGIN:VTIMEZONE
TZID:America/Chicago
BEGIN:STANDARD
TZNAME:CST
DTSTART:20201101T020000
TZOFFSETFROM:-0500
TZOFFSETTO:-0600
RDATE:20211107T020000
RDATE:20221106T020000
END:STANDARD
BEGIN:DAYLIGHT
TZNAME:CDT
DTSTART:20210314T020000
TZOFFSETFROM:-0600
TZOFFSETTO:-0500
RDATE:20220313T020000
END:DAYLIGHT
END:VTIMEZONE
BEGIN:VEVENT
UID:b551559f-0340-45f2-b474-18e998b35a7b
DTSTAMP:20260425T114809Z
DESCRIPTION:
DTSTART;TZID=America/Chicago:20210622T170000
DTEND;TZID=America/Chicago:20210622T200000
LOCATION:
SUMMARY:Volunteer Training
END:VEVENT
END:VCALENDAR
