BEGIN:VCALENDAR
VERSION:2.0
PRODID:-//webinar.firespring.org//NONSGML kigkonsult.se iCalcreator 2.30.10
 //
CALSCALE:GREGORIAN
METHOD:PUBLISH
UID:e3007f3e-ffd3-44e1-a286-3b11b2eed4eb
X-WR-CALDESC:
X-WR-RELCALID:41cb6b11fb1d8b666a08406bf89d2790
X-WR-TIMEZONE:America/Chicago
BEGIN:VTIMEZONE
TZID:America/Chicago
BEGIN:STANDARD
TZNAME:CST
DTSTART:20201101T020000
TZOFFSETFROM:-0500
TZOFFSETTO:-0600
RDATE:20211107T020000
RDATE:20221106T020000
END:STANDARD
BEGIN:DAYLIGHT
TZNAME:CDT
DTSTART:20210314T020000
TZOFFSETFROM:-0600
TZOFFSETTO:-0500
RDATE:20220313T020000
END:DAYLIGHT
END:VTIMEZONE
BEGIN:VEVENT
UID:9ee59c90-5b06-4648-9f72-4620f1a6a7d0
DTSTAMP:20260425T133717Z
DESCRIPTION:
DTSTART;TZID=America/Chicago:20210525T170000
DTEND;TZID=America/Chicago:20210525T200000
LOCATION:
SUMMARY:Volunteer Training
END:VEVENT
END:VCALENDAR
