BEGIN:VCALENDAR
VERSION:2.0
PRODID:-//webinar.firespring.org//NONSGML kigkonsult.se iCalcreator 2.30.10
 //
CALSCALE:GREGORIAN
METHOD:PUBLISH
UID:10d18432-82d6-426d-8a26-b51077442f51
X-WR-CALDESC:
X-WR-RELCALID:f929643e82d7df8cd344b9e9151282f3
X-WR-TIMEZONE:America/Chicago
BEGIN:VTIMEZONE
TZID:America/Chicago
BEGIN:STANDARD
TZNAME:CST
DTSTART:20201101T020000
TZOFFSETFROM:-0500
TZOFFSETTO:-0600
RDATE:20211107T020000
END:STANDARD
BEGIN:DAYLIGHT
TZNAME:CDT
DTSTART:20210314T020000
TZOFFSETFROM:-0600
TZOFFSETTO:-0500
RDATE:20220313T020000
END:DAYLIGHT
END:VTIMEZONE
BEGIN:VEVENT
UID:4a2e5653-1240-44ac-948b-b698800f81af
DTSTAMP:20260425T143104Z
DESCRIPTION:
DTSTART;TZID=America/Chicago:20210427T170000
DTEND;TZID=America/Chicago:20210427T200000
LOCATION:
SUMMARY:Volunteer Training
END:VEVENT
END:VCALENDAR
