BEGIN:VCALENDAR
VERSION:2.0
PRODID:-//webinar.firespring.org//NONSGML kigkonsult.se iCalcreator 2.30.10
 //
CALSCALE:GREGORIAN
METHOD:PUBLISH
UID:57b1b187-c961-4031-9b00-3e4485c65b81
X-WR-CALDESC:
X-WR-RELCALID:a5ecadf2242700d7460400ba23940b5b
X-WR-TIMEZONE:America/Chicago
BEGIN:VTIMEZONE
TZID:America/Chicago
BEGIN:STANDARD
TZNAME:CST
DTSTART:20201101T020000
TZOFFSETFROM:-0500
TZOFFSETTO:-0600
RDATE:20211107T020000
END:STANDARD
BEGIN:DAYLIGHT
TZNAME:CDT
DTSTART:20210314T020000
TZOFFSETFROM:-0600
TZOFFSETTO:-0500
RDATE:20220313T020000
END:DAYLIGHT
END:VTIMEZONE
BEGIN:VEVENT
UID:7a356f11-50a8-44b2-89fc-25df0bcb64a9
DTSTAMP:20260425T143111Z
DESCRIPTION:
DTSTART;TZID=America/Chicago:20210406T100000
DTEND;TZID=America/Chicago:20210406T110000
LOCATION:
SUMMARY:Volunteer Event
END:VEVENT
END:VCALENDAR
