BEGIN:VCALENDAR
VERSION:2.0
PRODID:-//webinar.firespring.org//NONSGML kigkonsult.se iCalcreator 2.30.10
 //
CALSCALE:GREGORIAN
METHOD:PUBLISH
UID:535ab88b-7dac-4e92-9b9a-8f628f7ae11f
X-WR-CALDESC:
X-WR-RELCALID:0d8ebc0d1e132470b7dd0311dd1b1365
X-WR-TIMEZONE:America/Chicago
BEGIN:VTIMEZONE
TZID:America/Chicago
BEGIN:STANDARD
TZNAME:CST
DTSTART:20201101T020000
TZOFFSETFROM:-0500
TZOFFSETTO:-0600
RDATE:20211107T020000
END:STANDARD
BEGIN:DAYLIGHT
TZNAME:CDT
DTSTART:20210314T020000
TZOFFSETFROM:-0600
TZOFFSETTO:-0500
RDATE:20220313T020000
END:DAYLIGHT
END:VTIMEZONE
BEGIN:VEVENT
UID:f94e6660-120a-4dd1-a8c9-8ced5aaf206a
DTSTAMP:20260425T155142Z
DESCRIPTION:
DTSTART;TZID=America/Chicago:20210325T110000
DTEND;TZID=America/Chicago:20210325T120000
LOCATION:
SUMMARY:Board Member Meeting
END:VEVENT
END:VCALENDAR
