BEGIN:VCALENDAR
VERSION:2.0
PRODID:-//webinar.firespring.org//NONSGML kigkonsult.se iCalcreator 2.30.10
 //
CALSCALE:GREGORIAN
METHOD:PUBLISH
UID:9f1831ec-ec26-4bfd-aa0c-f92b57fb35b4
X-WR-CALDESC:
X-WR-RELCALID:b0a33475ab23b9342ac2a38d36e74ee5
X-WR-TIMEZONE:America/Chicago
BEGIN:VTIMEZONE
TZID:America/Chicago
BEGIN:STANDARD
TZNAME:CST
DTSTART:20201101T020000
TZOFFSETFROM:-0500
TZOFFSETTO:-0600
RDATE:20211107T020000
END:STANDARD
BEGIN:DAYLIGHT
TZNAME:CDT
DTSTART:20210314T020000
TZOFFSETFROM:-0600
TZOFFSETTO:-0500
RDATE:20220313T020000
END:DAYLIGHT
END:VTIMEZONE
BEGIN:VEVENT
UID:672e81dd-934e-4903-8bb0-a76e0ad3e63d
DTSTAMP:20260425T155055Z
DESCRIPTION:
DTSTART;TZID=America/Chicago:20210323T170000
DTEND;TZID=America/Chicago:20210323T200000
LOCATION:
SUMMARY:Volunteer Training
END:VEVENT
END:VCALENDAR
